BEGIN:VCALENDAR
VERSION:2.0
METHOD:PUBLISH
PRODID:-//Accessible Web Design//My Calendar//http://www.joedolson.com//v//EN';
BEGIN:VEVENT
UID:98-86
LOCATION:
SUMMARY:2ª Etapa - And´Praia ´25 (Matosinhos)
DTSTAMP:20250703
ORGANIZER;CN=Vitor Freitas:MAILTO:vitor.freitas@eibizion.com
DTSTART:20250703
DTEND:20250707
CATEGORIES:And´Praia
URL;VALUE=URI:https://andebolporto.pt/mc-events/2a-etapa-andpraia-25-matosinhos/?mc_id=98
DESCRIPTION;ENCODING=QUOTED-PRINTABLE:
X-FUNAMBOL-ALLDAY: 1
X-MICROSOFT-CDO-ALLDAYEVENT: TRUE

END:VEVENT
END:VCALENDAR