BEGIN:VCALENDAR
VERSION:2.0
METHOD:PUBLISH
PRODID:-//Accessible Web Design//My Calendar//http://www.joedolson.com//v//EN';
BEGIN:VEVENT
UID:96-84
LOCATION:
SUMMARY:Taça Regional Ibérica - Andebol de Praia
DTSTAMP:20250620
ORGANIZER;CN=Vitor Freitas:MAILTO:vitor.freitas@eibizion.com
DTSTART:20250620
DTEND:20250623
CATEGORIES:Andebol de Praia
URL;VALUE=URI:https://andebolporto.pt/mc-events/taca-regional-iberica-andebol-de-praia/?mc_id=96
DESCRIPTION;ENCODING=QUOTED-PRINTABLE:
X-FUNAMBOL-ALLDAY: 1
X-MICROSOFT-CDO-ALLDAYEVENT: TRUE

END:VEVENT
END:VCALENDAR