BEGIN:VCALENDAR
VERSION:2.0
METHOD:PUBLISH
PRODID:-//Accessible Web Design//My Calendar//http://www.joedolson.com//v//EN';
BEGIN:VEVENT
UID:9-7
LOCATION:
SUMMARY:Início - Curso Inicial de Árbitros de Andebol - Porto
DTSTAMP:20231128
ORGANIZER;CN=Vitor Freitas:MAILTO:vitor.freitas@eibizion.com
DTSTART:20231128
DTEND:20231129
CATEGORIES:Jogos
URL;VALUE=URI:https://andebolporto.pt/mc-events/inicio-curso-inicial-de-arbitros-de-andebol-porto/?mc_id=9
DESCRIPTION;ENCODING=QUOTED-PRINTABLE:
X-FUNAMBOL-ALLDAY: 1
X-MICROSOFT-CDO-ALLDAYEVENT: TRUE

END:VEVENT
END:VCALENDAR