BEGIN:VCALENDAR
VERSION:2.0
METHOD:PUBLISH
PRODID:-//Accessible Web Design//My Calendar//http://www.joedolson.com//v//EN';
BEGIN:VEVENT
UID:87-76
LOCATION:
SUMMARY:Aniversário da AAP (93 Anos)
DTSTAMP:20250329
ORGANIZER;CN=Vitor Freitas:MAILTO:vitor.freitas@eibizion.com
DTSTART:20250329
DTEND:20250330
CATEGORIES:Efeméride
URL;VALUE=URI:https://andebolporto.pt/mc-events/aniversario-da-aap-93-anos/?mc_id=87
DESCRIPTION;ENCODING=QUOTED-PRINTABLE:
X-FUNAMBOL-ALLDAY: 1
X-MICROSOFT-CDO-ALLDAYEVENT: TRUE

END:VEVENT
END:VCALENDAR