BEGIN:VCALENDAR
VERSION:2.0
METHOD:PUBLISH
PRODID:-//Accessible Web Design//My Calendar//http://www.joedolson.com//v//EN';
BEGIN:VEVENT
UID:83-72
LOCATION:
SUMMARY:XXV Torneio InterEscolas Secundárias do Concelho de Matosinhos
DTSTAMP:20250505
ORGANIZER;CN=Vitor Freitas:MAILTO:vitor.freitas@eibizion.com
DTSTART:20250505
DTEND:20250510
CATEGORIES:Jogos
URL;VALUE=URI:https://andebolporto.pt/mc-events/xxv-torneio-interescolas-secundarias-do-concelho-de-matosinhos/?mc_id=83
DESCRIPTION;ENCODING=QUOTED-PRINTABLE:
X-FUNAMBOL-ALLDAY: 1
X-MICROSOFT-CDO-ALLDAYEVENT: TRUE

END:VEVENT
END:VCALENDAR