BEGIN:VCALENDAR
VERSION:2.0
METHOD:PUBLISH
PRODID:-//Accessible Web Design//My Calendar//http://www.joedolson.com//v//EN';
BEGIN:VEVENT
UID:82-71
LOCATION:
SUMMARY:I Torneio Internacional de Vila do Conde - GDC Azurara (SUB 14 e SEN. - Masculinos)
DTSTAMP:20250418
ORGANIZER;CN=Vitor Freitas:MAILTO:vitor.freitas@eibizion.com
DTSTART:20250418
DTEND:20250420
CATEGORIES:Jogos
URL;VALUE=URI:https://andebolporto.pt/mc-events/i-torneio-internacional-de-vila-do-conde-gdc-azurara-sub-14-e-sen-masculinos/?mc_id=82
DESCRIPTION;ENCODING=QUOTED-PRINTABLE:
X-FUNAMBOL-ALLDAY: 1
X-MICROSOFT-CDO-ALLDAYEVENT: TRUE

END:VEVENT
END:VCALENDAR