BEGIN:VCALENDAR
VERSION:2.0
METHOD:PUBLISH
PRODID:-//Accessible Web Design//My Calendar//http://www.joedolson.com//v//EN';
BEGIN:VEVENT
UID:80-69
LOCATION:
SUMMARY:SUPERTAÇA REGIONAL IBÉRICA - Porto / Galiza (Feminina e Masculina) (Pav. Mun. Leça da Palmeira - Bataria / Matosinhos)
DTSTAMP:20250921T000000
ORGANIZER;CN=Vitor Freitas:MAILTO:vitor.freitas@eibizion.com
DTSTART:20250921T000000
DTEND:20250921T010000
CATEGORIES:Jogos
URL;VALUE=URI:https://andebolporto.pt/mc-events/supertaca-regional-iberica-porto-galiza-feminina-e-masculina-pav-mun-leca-da-palmeira-bataria-matosinhos/?mc_id=80
DESCRIPTION;ENCODING=QUOTED-PRINTABLE:
END:VEVENT
END:VCALENDAR