BEGIN:VCALENDAR
VERSION:2.0
METHOD:PUBLISH
PRODID:-//Accessible Web Design//My Calendar//http://www.joedolson.com//v//EN';
BEGIN:VEVENT
UID:79-68
LOCATION:
SUMMARY:Encontro Regional de Minis e Infantis (Fem. e Masc.) (última Onda) - Paredes
DTSTAMP:20250613
ORGANIZER;CN=Vitor Freitas:MAILTO:vitor.freitas@eibizion.com
DTSTART:20250613
DTEND:20250616
CATEGORIES:Jogos
URL;VALUE=URI:https://andebolporto.pt/mc-events/encontro-regional-de-minis-e-infantis-fem-e-masc-ultima-onda-paredes/?mc_id=79
DESCRIPTION;ENCODING=QUOTED-PRINTABLE:
X-FUNAMBOL-ALLDAY: 1
X-MICROSOFT-CDO-ALLDAYEVENT: TRUE

END:VEVENT
END:VCALENDAR