BEGIN:VCALENDAR
VERSION:2.0
METHOD:PUBLISH
PRODID:-//Accessible Web Design//My Calendar//http://www.joedolson.com//v//EN';
BEGIN:VEVENT
UID:75-64
LOCATION:
SUMMARY:FASE FINAL PO12- SUB 18 Femininos (Pav. Mun. Padrão da Légua / Matosinhos)
DTSTAMP:20250524T000000
ORGANIZER;CN=Vitor Freitas:MAILTO:vitor.freitas@eibizion.com
DTSTART:20250524T000000
DTEND:20250525T010000
CATEGORIES:Jogos
URL;VALUE=URI:https://andebolporto.pt/mc-events/fase-final-po12-sub-18-femininos-pav-mun-padrao-da-legua-matosinhos/?mc_id=75
DESCRIPTION;ENCODING=QUOTED-PRINTABLE:
END:VEVENT
END:VCALENDAR