BEGIN:VCALENDAR
VERSION:2.0
METHOD:PUBLISH
PRODID:-//Accessible Web Design//My Calendar//http://www.joedolson.com//v//EN';
BEGIN:VEVENT
UID:55-50
LOCATION:
SUMMARY:MEN´s IHF WORLD CHAMPIONSHIP 2025
DTSTAMP:20250114
ORGANIZER;CN=Vitor Freitas:MAILTO:vitor.freitas@eibizion.com
DTSTART:20250114
DTEND:20250203
CATEGORIES:Jogos
URL;VALUE=URI:https://andebolporto.pt/mc-events/mens-ihf-world-championship-2025/?mc_id=55
DESCRIPTION;ENCODING=QUOTED-PRINTABLE:
X-FUNAMBOL-ALLDAY: 1
X-MICROSOFT-CDO-ALLDAYEVENT: TRUE

END:VEVENT
END:VCALENDAR