BEGIN:VCALENDAR
VERSION:2.0
METHOD:PUBLISH
PRODID:-//Accessible Web Design//My Calendar//http://www.joedolson.com//v//EN';
BEGIN:VEVENT
UID:54-49
LOCATION:
SUMMARY:Supertaça Feminina 2024 (SLB x Mad. Sad) _ Funchal
DTSTAMP:20241221T173000
ORGANIZER;CN=Vitor Freitas:MAILTO:vitor.freitas@eibizion.com
DTSTART:20241221T173000
DTEND:20241221T183000
CATEGORIES:Jogos
URL;VALUE=URI:https://andebolporto.pt/mc-events/supertaca-feminina-2024-slb-x-mad-sad-_-funchal/?mc_id=54
DESCRIPTION;ENCODING=QUOTED-PRINTABLE:
END:VEVENT
END:VCALENDAR