BEGIN:VCALENDAR
VERSION:2.0
METHOD:PUBLISH
PRODID:-//Accessible Web Design//My Calendar//http://www.joedolson.com//v//EN';
BEGIN:VEVENT
UID:53-48
LOCATION:
SUMMARY:Ação de Formação para Treinadores (Gaia)
DTSTAMP:20250103
ORGANIZER;CN=Vitor Freitas:MAILTO:vitor.freitas@eibizion.com
DTSTART:20250103
DTEND:20250105
CATEGORIES:Jogos
URL;VALUE=URI:https://andebolporto.pt/mc-events/acao-de-formacao-para-treinadores-gaia/?mc_id=53
DESCRIPTION;ENCODING=QUOTED-PRINTABLE:
X-FUNAMBOL-ALLDAY: 1
X-MICROSOFT-CDO-ALLDAYEVENT: TRUE

END:VEVENT
END:VCALENDAR