BEGIN:VCALENDAR
VERSION:2.0
METHOD:PUBLISH
PRODID:-//Accessible Web Design//My Calendar//http://www.joedolson.com//v//EN';
BEGIN:VEVENT
UID:5-3
LOCATION:
SUMMARY:3ª Etapa - And´Praia ´23 (Paredes)
DTSTAMP:20230706
ORGANIZER;CN=Vitor Freitas:MAILTO:vitor.freitas@eibizion.com
DTSTART:20230706
DTEND:20230710
CATEGORIES:Jogos
URL;VALUE=URI:https://andebolporto.pt/mc-events/3a-etapa-andpraia-23-paredes/?mc_id=5
DESCRIPTION;ENCODING=QUOTED-PRINTABLE:
X-FUNAMBOL-ALLDAY: 1
X-MICROSOFT-CDO-ALLDAYEVENT: TRUE

END:VEVENT
END:VCALENDAR