BEGIN:VCALENDAR
VERSION:2.0
METHOD:PUBLISH
PRODID:-//Accessible Web Design//My Calendar//http://www.joedolson.com//v//EN';
BEGIN:VEVENT
UID:45-41
LOCATION:
SUMMARY:Fim de Ano
DTSTAMP:20241231
ORGANIZER;CN=Vitor Freitas:MAILTO:vitor.freitas@eibizion.com
DTSTART:20241231
DTEND:20250101
CATEGORIES:Jogos
URL;VALUE=URI:https://andebolporto.pt/mc-events/fim-de-ano/?mc_id=45
DESCRIPTION;ENCODING=QUOTED-PRINTABLE:
X-FUNAMBOL-ALLDAY: 1
X-MICROSOFT-CDO-ALLDAYEVENT: TRUE

END:VEVENT
END:VCALENDAR