BEGIN:VCALENDAR
VERSION:2.0
METHOD:PUBLISH
PRODID:-//Accessible Web Design//My Calendar//http://www.joedolson.com//v//EN';
BEGIN:VEVENT
UID:40-37
LOCATION:
SUMMARY:Torneio de Santiago de Compostela - Sel. Regionais
DTSTAMP:20241207
ORGANIZER;CN=Vitor Freitas:MAILTO:vitor.freitas@eibizion.com
DTSTART:20241207
DTEND:20241209
CATEGORIES:Jogos
URL;VALUE=URI:https://andebolporto.pt/mc-events/torneio-de-santiago-de-compostela-sel-regionais/?mc_id=40
DESCRIPTION;ENCODING=QUOTED-PRINTABLE:
X-FUNAMBOL-ALLDAY: 1
X-MICROSOFT-CDO-ALLDAYEVENT: TRUE

END:VEVENT
END:VCALENDAR