BEGIN:VCALENDAR
VERSION:2.0
METHOD:PUBLISH
PRODID:-//Accessible Web Design//My Calendar//http://www.joedolson.com//v//EN';
BEGIN:VEVENT
UID:37-34
LOCATION:
SUMMARY:Torneio Transfronteirizo do Minho (A Guarda) - Sel. Regionais
DTSTAMP:20241101
ORGANIZER;CN=Vitor Freitas:MAILTO:vitor.freitas@eibizion.com
DTSTART:20241101
DTEND:20241102
CATEGORIES:Jogos
URL;VALUE=URI:https://andebolporto.pt/mc-events/torneio-transfronteirizo-do-minho-a-guarda-sel-regionais/?mc_id=37
DESCRIPTION;ENCODING=QUOTED-PRINTABLE:
X-FUNAMBOL-ALLDAY: 1
X-MICROSOFT-CDO-ALLDAYEVENT: TRUE

END:VEVENT
END:VCALENDAR