BEGIN:VCALENDAR
VERSION:2.0
METHOD:PUBLISH
PRODID:-//Accessible Web Design//My Calendar//http://www.joedolson.com//v//EN';
BEGIN:VEVENT
UID:35-32
LOCATION:
SUMMARY:SUPERTAÇA IBÉRICA FEM.: Final (Pav. Mun. Maia)
DTSTAMP:20240908T150000
ORGANIZER;CN=Vitor Freitas:MAILTO:vitor.freitas@eibizion.com
DTSTART:20240908T150000
DTEND:20240908T160000
CATEGORIES:Jogos
URL;VALUE=URI:https://andebolporto.pt/mc-events/supertaca-iberica-fem-final-pav-mun-maia/?mc_id=35
DESCRIPTION;ENCODING=QUOTED-PRINTABLE:
END:VEVENT
END:VCALENDAR