BEGIN:VCALENDAR
VERSION:2.0
METHOD:PUBLISH
PRODID:-//Accessible Web Design//My Calendar//http://www.joedolson.com//v//EN';
BEGIN:VEVENT
UID:34-31
LOCATION:
SUMMARY:SUPERTAÇA IBÉRICA FEM.: 3º/4º (Pav. Mun. Maia)
DTSTAMP:20240908T120000
ORGANIZER;CN=Vitor Freitas:MAILTO:vitor.freitas@eibizion.com
DTSTART:20240908T120000
DTEND:20240908T130000
CATEGORIES:Jogos
URL;VALUE=URI:https://andebolporto.pt/mc-events/supertaca-iberica-fem-3o-4o-pav-mun-maia/?mc_id=34
DESCRIPTION;ENCODING=QUOTED-PRINTABLE:
END:VEVENT
END:VCALENDAR