BEGIN:VCALENDAR
VERSION:2.0
METHOD:PUBLISH
PRODID:-//Accessible Web Design//My Calendar//http://www.joedolson.com//v//EN';
BEGIN:VEVENT
UID:101-89
LOCATION:
SUMMARY:5ª Etapa - And´Praia ´25 (Porto)
DTSTAMP:20250723
ORGANIZER;CN=Vitor Freitas:MAILTO:vitor.freitas@eibizion.com
DTSTART:20250723
DTEND:20250728
CATEGORIES:And´Praia
URL;VALUE=URI:https://andebolporto.pt/mc-events/5a-etapa-andpraia-25-porto/?mc_id=101
DESCRIPTION;ENCODING=QUOTED-PRINTABLE:
X-FUNAMBOL-ALLDAY: 1
X-MICROSOFT-CDO-ALLDAYEVENT: TRUE

END:VEVENT
END:VCALENDAR