BEGIN:VCALENDAR
VERSION:2.0
METHOD:PUBLISH
PRODID:-//Accessible Web Design//My Calendar//http://www.joedolson.com//v//EN';
BEGIN:VEVENT
UID:10-8
LOCATION:
SUMMARY:Torneio Internacional de Seleções Regionais - Maia 2023 (AAP)
DTSTAMP:20231209
ORGANIZER;CN=Vitor Freitas:MAILTO:vitor.freitas@eibizion.com
DTSTART:20231209
DTEND:20231211
CATEGORIES:Jogos
URL;VALUE=URI:https://andebolporto.pt/mc-events/torneio-internacional-de-selecoes-regionais-maia-2023-aap/?mc_id=10
DESCRIPTION;ENCODING=QUOTED-PRINTABLE:
X-FUNAMBOL-ALLDAY: 1
X-MICROSOFT-CDO-ALLDAYEVENT: TRUE

END:VEVENT
END:VCALENDAR