BEGIN:VCALENDAR
VERSION:2.0
METHOD:PUBLISH
PRODID:-//Accessible Web Design//My Calendar//http://www.joedolson.com//v//EN';
BEGIN:VEVENT
UID:97-85
LOCATION:
SUMMARY:1ª Etapa - And´Praia ´25 (Paredes)
DTSTAMP:20250626
ORGANIZER;CN=Vitor Freitas:MAILTO:vitor.freitas@eibizion.com
DTSTART:20250626
DTEND:20250630
CATEGORIES:And´Praia
URL;VALUE=URI:https://andebolporto.pt/mc-events/1a-etapa-andpraia-25-paredes/?mc_id=97
DESCRIPTION;ENCODING=QUOTED-PRINTABLE:
X-FUNAMBOL-ALLDAY: 1
X-MICROSOFT-CDO-ALLDAYEVENT: TRUE

END:VEVENT
END:VCALENDAR