BEGIN:VCALENDAR
VERSION:2.0
METHOD:PUBLISH
PRODID:-//Accessible Web Design//My Calendar//http://www.joedolson.com//v//EN';
BEGIN:VEVENT
UID:94-67
LOCATION:
SUMMARY:ANDEBOL DE RUA (mês de maio) - Maia
DTSTAMP:20250531T000000
ORGANIZER;CN=Vitor Freitas:MAILTO:vitor.freitas@eibizion.com
DTSTART:20250531T000000
DTEND:20250531T010000
CATEGORIES:Jogos
URL;VALUE=URI:https://andebolporto.pt/mc-events/andebol-de-rua-mes-de-maio-maia/?mc_id=94
DESCRIPTION;ENCODING=QUOTED-PRINTABLE:
END:VEVENT
END:VCALENDAR