BEGIN:VCALENDAR
VERSION:2.0
METHOD:PUBLISH
PRODID:-//Accessible Web Design//My Calendar//http://www.joedolson.com//v//EN';
BEGIN:VEVENT
UID:85-74
LOCATION:
SUMMARY:Torneio Porto Handball Cup (CD Foz Porto / AEGO Sports)
DTSTAMP:20250703
ORGANIZER;CN=Vitor Freitas:MAILTO:vitor.freitas@eibizion.com
DTSTART:20250703
DTEND:20250707
CATEGORIES:Jogos
URL;VALUE=URI:https://andebolporto.pt/mc-events/torneio-porto-handball-cup-cd-foz-porto-aego-sports/?mc_id=85
DESCRIPTION;ENCODING=QUOTED-PRINTABLE:
X-FUNAMBOL-ALLDAY: 1
X-MICROSOFT-CDO-ALLDAYEVENT: TRUE

END:VEVENT
END:VCALENDAR