BEGIN:VCALENDAR
VERSION:2.0
METHOD:PUBLISH
PRODID:-//Accessible Web Design//My Calendar//http://www.joedolson.com//v//EN';
BEGIN:VEVENT
UID:84-73
LOCATION:
SUMMARY:ENCONTRO NACIONAL DE MASTERS FEMININOS (Maia)
DTSTAMP:20250628
ORGANIZER;CN=Vitor Freitas:MAILTO:vitor.freitas@eibizion.com
DTSTART:20250628
DTEND:20250630
CATEGORIES:Jogos
URL;VALUE=URI:https://andebolporto.pt/mc-events/encontro-nacional-de-masters-femininos-maia/?mc_id=84
DESCRIPTION;ENCODING=QUOTED-PRINTABLE:
X-FUNAMBOL-ALLDAY: 1
X-MICROSOFT-CDO-ALLDAYEVENT: TRUE

END:VEVENT
END:VCALENDAR