BEGIN:VCALENDAR
VERSION:2.0
METHOD:PUBLISH
PRODID:-//Accessible Web Design//My Calendar//http://www.joedolson.com//v//EN';
BEGIN:VEVENT
UID:81-70
LOCATION:
SUMMARY:Torneio Handgaia (FC Gaia)
DTSTAMP:20250416
ORGANIZER;CN=Vitor Freitas:MAILTO:vitor.freitas@eibizion.com
DTSTART:20250416
DTEND:20250420
CATEGORIES:Jogos
URL;VALUE=URI:https://andebolporto.pt/mc-events/torneio-handgaia-fc-gaia/?mc_id=81
DESCRIPTION;ENCODING=QUOTED-PRINTABLE:
X-FUNAMBOL-ALLDAY: 1
X-MICROSOFT-CDO-ALLDAYEVENT: TRUE

END:VEVENT
END:VCALENDAR