BEGIN:VCALENDAR
VERSION:2.0
METHOD:PUBLISH
PRODID:-//Accessible Web Design//My Calendar//http://www.joedolson.com//v//EN';
BEGIN:VEVENT
UID:8-6
LOCATION:
SUMMARY:6ª Etapa - And´Praia ´23 (Porto 2 - Ed. Transparente)
DTSTAMP:20230727T000000
ORGANIZER;CN=Vitor Freitas:MAILTO:vitor.freitas@eibizion.com
DTSTART:20230727T000000
DTEND:20230730T010000
CATEGORIES:Jogos
URL;VALUE=URI:https://andebolporto.pt/mc-events/6a-etapa-andpraia-23-porto-2-ed-transparente/?mc_id=8
DESCRIPTION;ENCODING=QUOTED-PRINTABLE:
END:VEVENT
END:VCALENDAR