BEGIN:VCALENDAR
VERSION:2.0
METHOD:PUBLISH
PRODID:-//Accessible Web Design//My Calendar//http://www.joedolson.com//v//EN';
BEGIN:VEVENT
UID:77-66
LOCATION:
SUMMARY:FASE FINAL PO13- SUB 16 Femininos (Pav. Mun. Padrão da Légua / Matosinhos)
DTSTAMP:20250531T000000
ORGANIZER;CN=Vitor Freitas:MAILTO:vitor.freitas@eibizion.com
DTSTART:20250531T000000
DTEND:20250601T010000
CATEGORIES:Jogos
URL;VALUE=URI:https://andebolporto.pt/mc-events/fase-final-po13-sub-16-femininos-pav-mun-padrao-da-legua-matosinhos/?mc_id=77
DESCRIPTION;ENCODING=QUOTED-PRINTABLE:
END:VEVENT
END:VCALENDAR