BEGIN:VCALENDAR
VERSION:2.0
METHOD:PUBLISH
PRODID:-//Accessible Web Design//My Calendar//http://www.joedolson.com//v//EN';
BEGIN:VEVENT
UID:39-36
LOCATION:
SUMMARY:POR x ISR (MEN´s EHF EURO ´26 - Qualifiers): Sº Tirso
DTSTAMP:20241110T173000
ORGANIZER;CN=Vitor Freitas:MAILTO:vitor.freitas@eibizion.com
DTSTART:20241110T173000
DTEND:20241110T183000
CATEGORIES:Jogos
URL;VALUE=URI:https://andebolporto.pt/mc-events/por-x-isr-mens-ehf-euro-26-qualifiers-so-tirso/?mc_id=39
DESCRIPTION;ENCODING=QUOTED-PRINTABLE:
END:VEVENT
END:VCALENDAR