BEGIN:VCALENDAR
VERSION:2.0
METHOD:PUBLISH
PRODID:-//Accessible Web Design//My Calendar//http://www.joedolson.com//v//EN';
BEGIN:VEVENT
UID:38-35
LOCATION:
SUMMARY:POR x ROM (MEN´s EHF EURO ´26 - Qualifiers): Sº Tirso
DTSTAMP:20241107T190000
ORGANIZER;CN=Vitor Freitas:MAILTO:vitor.freitas@eibizion.com
DTSTART:20241107T190000
DTEND:20241107T200000
CATEGORIES:Jogos
URL;VALUE=URI:https://andebolporto.pt/mc-events/por-x-rom-mens-ehf-euro-26-qualifiers-so-tirso/?mc_id=38
DESCRIPTION;ENCODING=QUOTED-PRINTABLE:
END:VEVENT
END:VCALENDAR